BEGIN:VCALENDAR
VERSION:2.0
PRODID:-// - ECPv6.2.9//NONSGML v1.0//EN
CALSCALE:GREGORIAN
METHOD:PUBLISH
X-ORIGINAL-URL:https://nagyfuvaros.hu
X-WR-CALDESC:Events for 
REFRESH-INTERVAL;VALUE=DURATION:PT1H
X-Robots-Tag:noindex
X-PUBLISHED-TTL:PT1H
BEGIN:VTIMEZONE
TZID:Europe/Budapest
BEGIN:DAYLIGHT
TZOFFSETFROM:+0100
TZOFFSETTO:+0200
TZNAME:CEST
DTSTART:20260329T010000
END:DAYLIGHT
BEGIN:STANDARD
TZOFFSETFROM:+0200
TZOFFSETTO:+0100
TZNAME:CET
DTSTART:20261025T010000
END:STANDARD
END:VTIMEZONE
BEGIN:VEVENT
DTSTART;TZID=Europe/Budapest:20260402T200000
DTEND;TZID=Europe/Budapest:20260402T220000
DTSTAMP:20260425T184547
CREATED:20260318T194838Z
LAST-MODIFIED:20260319T095159Z
UID:993-1775160000-1775167200@nagyfuvaros.hu
SUMMARY:Széder este Binjomin rabbival
DESCRIPTION:Jelentkezés március 21-éig: szvbinjomin KUKAC gmail PONT com.
URL:https://nagyfuvaros.hu/events/szeder-este-binjomin-rabbival/
END:VEVENT
END:VCALENDAR