BEGIN:VCALENDAR
VERSION:2.0
PRODID:-// - ECPv6.2.9//NONSGML v1.0//EN
CALSCALE:GREGORIAN
METHOD:PUBLISH
X-ORIGINAL-URL:https://nagyfuvaros.hu
X-WR-CALDESC:Events for 
REFRESH-INTERVAL;VALUE=DURATION:PT1H
X-Robots-Tag:noindex
X-PUBLISHED-TTL:PT1H
BEGIN:VTIMEZONE
TZID:Europe/Budapest
BEGIN:DAYLIGHT
TZOFFSETFROM:+0100
TZOFFSETTO:+0200
TZNAME:CEST
DTSTART:20220327T010000
END:DAYLIGHT
BEGIN:STANDARD
TZOFFSETFROM:+0200
TZOFFSETTO:+0100
TZNAME:CET
DTSTART:20221030T010000
END:STANDARD
BEGIN:DAYLIGHT
TZOFFSETFROM:+0100
TZOFFSETTO:+0200
TZNAME:CEST
DTSTART:20230326T010000
END:DAYLIGHT
BEGIN:STANDARD
TZOFFSETFROM:+0200
TZOFFSETTO:+0100
TZNAME:CET
DTSTART:20231029T010000
END:STANDARD
BEGIN:DAYLIGHT
TZOFFSETFROM:+0100
TZOFFSETTO:+0200
TZNAME:CEST
DTSTART:20240331T010000
END:DAYLIGHT
BEGIN:STANDARD
TZOFFSETFROM:+0200
TZOFFSETTO:+0100
TZNAME:CET
DTSTART:20241027T010000
END:STANDARD
END:VTIMEZONE
BEGIN:VEVENT
DTSTART;TZID=Europe/Budapest:20240112T080000
DTEND;TZID=Europe/Budapest:20240112T090000
DTSTAMP:20260425T184204
CREATED:20240108T180900Z
LAST-MODIFIED:20240108T180900Z
UID:841-1705046400-1705050000@nagyfuvaros.hu
SUMMARY:Reggeli Ima
DESCRIPTION:
URL:https://nagyfuvaros.hu/events/reggeli-ima-4/
END:VEVENT
BEGIN:VEVENT
DTSTART;TZID=Europe/Budapest:20240111T160000
DTEND;TZID=Europe/Budapest:20240111T163000
DTSTAMP:20260425T184204
CREATED:20240108T180831Z
LAST-MODIFIED:20240108T194533Z
UID:839-1704988800-1704990600@nagyfuvaros.hu
SUMMARY:Esti Ima
DESCRIPTION:
URL:https://nagyfuvaros.hu/events/esti-ima-3/
END:VEVENT
BEGIN:VEVENT
DTSTART;TZID=Europe/Budapest:20240111T070000
DTEND;TZID=Europe/Budapest:20240111T080000
DTSTAMP:20260425T184204
CREATED:20240108T180758Z
LAST-MODIFIED:20240108T194514Z
UID:837-1704956400-1704960000@nagyfuvaros.hu
SUMMARY:Reggeli Ima
DESCRIPTION:
URL:https://nagyfuvaros.hu/events/reggeli-ima-3/
END:VEVENT
BEGIN:VEVENT
DTSTART;TZID=Europe/Budapest:20240110T160000
DTEND;TZID=Europe/Budapest:20240110T163000
DTSTAMP:20260425T184204
CREATED:20240108T180728Z
LAST-MODIFIED:20240108T194453Z
UID:835-1704902400-1704904200@nagyfuvaros.hu
SUMMARY:Esti Ima
DESCRIPTION:
URL:https://nagyfuvaros.hu/events/esti-ima-2/
END:VEVENT
BEGIN:VEVENT
DTSTART;TZID=Europe/Budapest:20240110T070000
DTEND;TZID=Europe/Budapest:20240110T080000
DTSTAMP:20260425T184204
CREATED:20240108T180705Z
LAST-MODIFIED:20240108T194432Z
UID:833-1704870000-1704873600@nagyfuvaros.hu
SUMMARY:Reggeli Ima
DESCRIPTION:
URL:https://nagyfuvaros.hu/events/reggeli-ima-2/
END:VEVENT
BEGIN:VEVENT
DTSTART;TZID=Europe/Budapest:20240109T160000
DTEND;TZID=Europe/Budapest:20240109T163000
DTSTAMP:20260425T184204
CREATED:20240108T180635Z
LAST-MODIFIED:20240108T194416Z
UID:831-1704816000-1704817800@nagyfuvaros.hu
SUMMARY:Esti Ima
DESCRIPTION:
URL:https://nagyfuvaros.hu/events/esti-ima/
END:VEVENT
BEGIN:VEVENT
DTSTART;TZID=Europe/Budapest:20240109T070000
DTEND;TZID=Europe/Budapest:20240109T080000
DTSTAMP:20260425T184204
CREATED:20240108T180604Z
LAST-MODIFIED:20240108T194351Z
UID:828-1704783600-1704787200@nagyfuvaros.hu
SUMMARY:Reggeli Ima
DESCRIPTION:
URL:https://nagyfuvaros.hu/events/reggeli-ima/
END:VEVENT
BEGIN:VEVENT
DTSTART;VALUE=DATE:20221010
DTEND;VALUE=DATE:20221013
DTSTAMP:20260425T184204
CREATED:20221006T171803Z
LAST-MODIFIED:20221007T182117Z
UID:738-1665367200-1665539999@nagyfuvaros.hu
SUMMARY:Szukot
DESCRIPTION:Reggel: 8:00 (Ima kezdés) \nEste 18:00 (Ima kezdés) \n 
URL:https://nagyfuvaros.hu/events/szukot/
LOCATION:Nagy Fuvaros Zsinagóga\, Nagy Fuvaros u. 4.\, Budapest\, 1085
ATTACH;FMTTYPE=image/jpeg:https://nagyfuvaros.hu/wp-content/uploads/2022/10/maxresdefault-e1665084706810.jpg
END:VEVENT
BEGIN:VEVENT
DTSTART;TZID=Europe/Budapest:20221009T200000
DTEND;TZID=Europe/Budapest:20221009T205000
DTSTAMP:20260425T184204
CREATED:20221006T173818Z
LAST-MODIFIED:20221006T174056Z
UID:747-1665345600-1665348600@nagyfuvaros.hu
SUMMARY:Erev Szukot
DESCRIPTION:Vasárnap este: 18:00 (Ima kezdés)
URL:https://nagyfuvaros.hu/events/erev-szukot/
LOCATION:Nagy Fuvaros Zsinagóga\, Nagy Fuvaros u. 4.\, Budapest\, 1085
ATTACH;FMTTYPE=image/jpeg:https://nagyfuvaros.hu/wp-content/uploads/2022/10/maxresdefault-e1665084706810.jpg
END:VEVENT
BEGIN:VEVENT
DTSTART;VALUE=DATE:20221007
DTEND;VALUE=DATE:20221010
DTSTAMP:20260425T184204
CREATED:20221006T170005Z
LAST-MODIFIED:20221006T172647Z
UID:732-1665108000-1665280799@nagyfuvaros.hu
SUMMARY:Sábát Háázinu
DESCRIPTION:Péntek este: 18:00 (Ima kezdés) \nSzombat este: 18:30 (Ima kezdés) \nSzombat bejövetele: 17:54 \nSzombat kimenetele: 18:56 \n 
URL:https://nagyfuvaros.hu/events/732/
LOCATION:Nagy Fuvaros Zsinagóga\, Nagy Fuvaros u. 4.\, Budapest\, 1085
ATTACH;FMTTYPE=image/jpeg:https://nagyfuvaros.hu/wp-content/uploads/2022/10/5-10-Haazinuhetiszakasz-felolvasva-magyarul-audio.jpeg
END:VEVENT
END:VCALENDAR